BEGIN:VCALENDAR
VERSION:2.0
PRODID:-//Association Jeunesse Intercommunale - ECPv6.8.2.1//NONSGML v1.0//EN
CALSCALE:GREGORIAN
METHOD:PUBLISH
X-WR-CALNAME:Association Jeunesse Intercommunale
X-ORIGINAL-URL:https://ajic.fr
X-WR-CALDESC:Évènements pour Association Jeunesse Intercommunale
REFRESH-INTERVAL;VALUE=DURATION:PT1H
X-Robots-Tag:noindex
X-PUBLISHED-TTL:PT1H
BEGIN:VTIMEZONE
TZID:Europe/Paris
BEGIN:DAYLIGHT
TZOFFSETFROM:+0100
TZOFFSETTO:+0200
TZNAME:CEST
DTSTART:20240331T010000
END:DAYLIGHT
BEGIN:STANDARD
TZOFFSETFROM:+0200
TZOFFSETTO:+0100
TZNAME:CET
DTSTART:20241027T010000
END:STANDARD
END:VTIMEZONE
BEGIN:VEVENT
DTSTART;TZID=Europe/Paris:20240103T170000
DTEND;TZID=Europe/Paris:20240103T230000
DTSTAMP:20260422T080448
CREATED:20231219T162048Z
LAST-MODIFIED:20231221T154632Z
UID:236-1704301200-1704322800@ajic.fr
SUMMARY:Soirée Casino
DESCRIPTION:🎲 Rejoins-nous pour une soirée casino épique organisée par l’AJIC ! 🌟 Blackjack\, machines à sous… la chance est de ton côté ! 🤩 Rendez-vous le 03 janvier à St Clément pour une soirée pleine de fun et de surprises. 🎉 Habille-toi stylé\, et prépare-toi à vivre une nuit mémorable ! 🎉 #AJICCasinoNight 🌟
URL:https://ajic.fr/event/soiree-casino/
LOCATION:Foyer de Saint-Clément de la Place\, Rue de la corderie\, Saint-Clément de la Place\, 49370\, France
CATEGORIES:Vacances scolaires
ATTACH;FMTTYPE=image/jpeg:https://ajic.fr/wp-content/uploads/2023/12/michal-parzuchowski-U8n_O7rEq7o-unsplash.jpg
END:VEVENT
END:VCALENDAR