BEGIN:VCALENDAR
VERSION:2.0
PRODID:-//Association Jeunesse Intercommunale - ECPv6.8.2.1//NONSGML v1.0//EN
CALSCALE:GREGORIAN
METHOD:PUBLISH
X-ORIGINAL-URL:https://ajic.fr
X-WR-CALDESC:Évènements pour Association Jeunesse Intercommunale
REFRESH-INTERVAL;VALUE=DURATION:PT1H
X-Robots-Tag:noindex
X-PUBLISHED-TTL:PT1H
BEGIN:VTIMEZONE
TZID:Europe/Paris
BEGIN:DAYLIGHT
TZOFFSETFROM:+0100
TZOFFSETTO:+0200
TZNAME:CEST
DTSTART:20230326T010000
END:DAYLIGHT
BEGIN:STANDARD
TZOFFSETFROM:+0200
TZOFFSETTO:+0100
TZNAME:CET
DTSTART:20231029T010000
END:STANDARD
END:VTIMEZONE
BEGIN:VEVENT
DTSTART;TZID=Europe/Paris:20231222T180000
DTEND;TZID=Europe/Paris:20231222T230000
DTSTAMP:20260424T121221
CREATED:20231219T154113Z
LAST-MODIFIED:20231221T154728Z
UID:226-1703268000-1703286000@ajic.fr
SUMMARY:Repas de Noël 2023 de l'AJIC
DESCRIPTION:Complet \n\n\n\n \n\n\n\n🎄✨ Rejoins l’AJIC pour le Repas de Noël 2023 ! 🍽️ Une soirée festive pleine de délices\, de surprises\, et de moments inoubliables t’attend le 22 décembre à St Clément de la Place . Habille-toi festif\, et prépare-toi à vivre la magie de Noël avec l’AJIC ! 🌟 #AJICNoel2023 🎅🤶
URL:https://ajic.fr/event/repas-de-noel-2023-de-lajic/
ATTACH;FMTTYPE=image/jpeg:https://ajic.fr/wp-content/uploads/2023/12/noel.jpg
END:VEVENT
END:VCALENDAR