BEGIN:VCALENDAR
VERSION:2.0
PRODID:-//Association Jeunesse Intercommunale - ECPv6.8.2.1//NONSGML v1.0//EN
CALSCALE:GREGORIAN
METHOD:PUBLISH
X-ORIGINAL-URL:https://ajic.fr
X-WR-CALDESC:Évènements pour Association Jeunesse Intercommunale
REFRESH-INTERVAL;VALUE=DURATION:PT1H
X-Robots-Tag:noindex
X-PUBLISHED-TTL:PT1H
BEGIN:VTIMEZONE
TZID:Europe/Paris
BEGIN:DAYLIGHT
TZOFFSETFROM:+0100
TZOFFSETTO:+0200
TZNAME:CEST
DTSTART:20240331T010000
END:DAYLIGHT
BEGIN:STANDARD
TZOFFSETFROM:+0200
TZOFFSETTO:+0100
TZNAME:CET
DTSTART:20241027T010000
END:STANDARD
END:VTIMEZONE
BEGIN:VEVENT
DTSTART;TZID=Europe/Paris:20240406T103000
DTEND;TZID=Europe/Paris:20240406T183000
DTSTAMP:20260422T061224
CREATED:20240323T100056Z
LAST-MODIFIED:20240323T100559Z
UID:498-1712399400-1712428200@ajic.fr
SUMMARY:Angers Geek Fest
DESCRIPTION:L’Angers Geek Fest 🎮👾 est un événement annuel incontournable pour les passionnés de culture geek à Angers. Organisé avec soin\, il offre un programme varié comprenant des conférences 🎤\, des tournois de jeux vidéo 🕹️\, du cosplay 🎭\, des stands de produits dérivés 🛍️\, et bien plus encore. Que vous soyez un fan de longue date ou simplement curieux\, cet événement promet une expérience immersive et divertissante pour tous les âges et tous les goûts
URL:https://ajic.fr/event/angers-geek-fest/
LOCATION:Foyer de La Membrolle\, Rue Françoise Dolto\, Longuenée-en-anjou\, 49770\, France
ATTACH;FMTTYPE=image/jpeg:https://ajic.fr/wp-content/uploads/2024/03/angers-geekfest-3-277507-1200-630.jpg
END:VEVENT
END:VCALENDAR